BEGIN:VCALENDAR
VERSION:2.0
PRODID:-//De Krüzzbrür - ECPv6.15.20//NONSGML v1.0//EN
CALSCALE:GREGORIAN
METHOD:PUBLISH
X-WR-CALNAME:De Krüzzbrür
X-ORIGINAL-URL:https://www.kruezzbruer.de
X-WR-CALDESC:Veranstaltungen für De Krüzzbrür
REFRESH-INTERVAL;VALUE=DURATION:PT1H
X-Robots-Tag:noindex
X-PUBLISHED-TTL:PT1H
BEGIN:VTIMEZONE
TZID:Europe/Berlin
BEGIN:DAYLIGHT
TZOFFSETFROM:+0100
TZOFFSETTO:+0200
TZNAME:CEST
DTSTART:20260329T010000
END:DAYLIGHT
BEGIN:STANDARD
TZOFFSETFROM:+0200
TZOFFSETTO:+0100
TZNAME:CET
DTSTART:20261025T010000
END:STANDARD
BEGIN:DAYLIGHT
TZOFFSETFROM:+0100
TZOFFSETTO:+0200
TZNAME:CEST
DTSTART:20270328T010000
END:DAYLIGHT
BEGIN:STANDARD
TZOFFSETFROM:+0200
TZOFFSETTO:+0100
TZNAME:CET
DTSTART:20271031T010000
END:STANDARD
BEGIN:DAYLIGHT
TZOFFSETFROM:+0100
TZOFFSETTO:+0200
TZNAME:CEST
DTSTART:20280326T010000
END:DAYLIGHT
BEGIN:STANDARD
TZOFFSETFROM:+0200
TZOFFSETTO:+0100
TZNAME:CET
DTSTART:20281029T010000
END:STANDARD
END:VTIMEZONE
BEGIN:VEVENT
DTSTART;TZID=Europe/Berlin:20270226T143000
DTEND;TZID=Europe/Berlin:20270227T143000
DTSTAMP:20260422T034359
CREATED:20240302T182557Z
LAST-MODIFIED:20260317T104802Z
UID:8626-1803652200-1803738600@www.kruezzbruer.de
SUMMARY:Einkehrtage
DESCRIPTION:Auch diesmal wird wieder Pfr. Werner Rombach durch die beiden Tage moderieren
URL:https://www.kruezzbruer.de/event/einkehrtage/
LOCATION:Nell-Breuning-Haus\, Herzogenrath
ATTACH;FMTTYPE=image/jpeg:https://www.kruezzbruer.de/wordpress/wp-content/uploads/2026/03/V-Einkehr-2026.jpg
END:VEVENT
END:VCALENDAR