BEGIN:VCALENDAR
VERSION:2.0
PRODID:-//De Krüzzbrür - ECPv6.15.20//NONSGML v1.0//EN
CALSCALE:GREGORIAN
METHOD:PUBLISH
X-ORIGINAL-URL:https://www.kruezzbruer.de
X-WR-CALDESC:Veranstaltungen für De Krüzzbrür
REFRESH-INTERVAL;VALUE=DURATION:PT1H
X-Robots-Tag:noindex
X-PUBLISHED-TTL:PT1H
BEGIN:VTIMEZONE
TZID:Europe/Berlin
BEGIN:DAYLIGHT
TZOFFSETFROM:+0100
TZOFFSETTO:+0200
TZNAME:CEST
DTSTART:20250330T010000
END:DAYLIGHT
BEGIN:STANDARD
TZOFFSETFROM:+0200
TZOFFSETTO:+0100
TZNAME:CET
DTSTART:20251026T010000
END:STANDARD
BEGIN:DAYLIGHT
TZOFFSETFROM:+0100
TZOFFSETTO:+0200
TZNAME:CEST
DTSTART:20260329T010000
END:DAYLIGHT
BEGIN:STANDARD
TZOFFSETFROM:+0200
TZOFFSETTO:+0100
TZNAME:CET
DTSTART:20261025T010000
END:STANDARD
BEGIN:DAYLIGHT
TZOFFSETFROM:+0100
TZOFFSETTO:+0200
TZNAME:CEST
DTSTART:20270328T010000
END:DAYLIGHT
BEGIN:STANDARD
TZOFFSETFROM:+0200
TZOFFSETTO:+0100
TZNAME:CET
DTSTART:20271031T010000
END:STANDARD
END:VTIMEZONE
BEGIN:VEVENT
DTSTART;TZID=Europe/Berlin:20260727T100000
DTEND;TZID=Europe/Berlin:20260727T133000
DTSTAMP:20260421T154954
CREATED:20260317T175815Z
LAST-MODIFIED:20260327T111816Z
UID:11880-1785146400-1785159000@www.kruezzbruer.de
SUMMARY:Halbjahresabschluss - Besuch der Kläranlage Soers
DESCRIPTION:Führung für Mitglieder des Pfarrausschuss und deren Partnerinnen durch die hochmoderne Kläranlage Aachen-Soers des Wasserverbandes Eifel-Rur (WVER). \nEin starkes Zeichen für den Umweltschutz und die nachhaltige Verbesserung unserer Wasserqualität! Die Wurm war Ende des 19. Jahrhunderts ein unerträgliches\, zäh fließendes Gewässer geworden durch zunehmende Industrialisierung und die Kanalisierung von Aachen ab ca. 1890. Die 1. Kläranlage in der Soers wurde 1913 in Betrieb genommen und aufgrund stetig steigender Anforderungen immer wieder erweitert und bedarfsgerecht ertüchtigt\, u.a. noch 2018. Sie reinigt inzwischen einen großen Teil der kommunalen und gewerblichen Abwässer der Stadt Aachen sowie eines Teilgebiets von Würselen und sorgt heute für unbedenkliche\, saubere Wassereinleitung in die Wurm. \nAnschließend Möglichkeit zum Mittagsimbiss im nahegelegenen Restaurant L’Osteria\, Gut-Dämme-Str. 1\, 52070 Aachen
URL:https://www.kruezzbruer.de/event/besuch-klaeranlage-soers/
LOCATION:Kläranlage Soers\, Krefelder Str. 229\, Aachen\, 52070
ATTACH;FMTTYPE=image/jpeg:https://www.kruezzbruer.de/wordpress/wp-content/uploads/2026/03/V-Klaerfuehrung.jpg
END:VEVENT
END:VCALENDAR