BEGIN:VCALENDAR
VERSION:2.0
PRODID:-//De Krüzzbrür - ECPv6.15.20//NONSGML v1.0//EN
CALSCALE:GREGORIAN
METHOD:PUBLISH
X-ORIGINAL-URL:https://www.kruezzbruer.de
X-WR-CALDESC:Veranstaltungen für De Krüzzbrür
REFRESH-INTERVAL;VALUE=DURATION:PT1H
X-Robots-Tag:noindex
X-PUBLISHED-TTL:PT1H
BEGIN:VTIMEZONE
TZID:Europe/Berlin
BEGIN:DAYLIGHT
TZOFFSETFROM:+0100
TZOFFSETTO:+0200
TZNAME:CEST
DTSTART:20250330T010000
END:DAYLIGHT
BEGIN:STANDARD
TZOFFSETFROM:+0200
TZOFFSETTO:+0100
TZNAME:CET
DTSTART:20251026T010000
END:STANDARD
BEGIN:DAYLIGHT
TZOFFSETFROM:+0100
TZOFFSETTO:+0200
TZNAME:CEST
DTSTART:20260329T010000
END:DAYLIGHT
BEGIN:STANDARD
TZOFFSETFROM:+0200
TZOFFSETTO:+0100
TZNAME:CET
DTSTART:20261025T010000
END:STANDARD
BEGIN:DAYLIGHT
TZOFFSETFROM:+0100
TZOFFSETTO:+0200
TZNAME:CEST
DTSTART:20270328T010000
END:DAYLIGHT
BEGIN:STANDARD
TZOFFSETFROM:+0200
TZOFFSETTO:+0100
TZNAME:CET
DTSTART:20271031T010000
END:STANDARD
END:VTIMEZONE
BEGIN:VEVENT
DTSTART;TZID=Europe/Berlin:20260601T190000
DTEND;TZID=Europe/Berlin:20260601T220000
DTSTAMP:20260421T142106
CREATED:20250401T165118Z
LAST-MODIFIED:20251211T120736Z
UID:10531-1780340400-1780351200@www.kruezzbruer.de
SUMMARY:PA-Versammlung
DESCRIPTION:
URL:https://www.kruezzbruer.de/event/pa-versammlung-7/
LOCATION:Bei Michael
END:VEVENT
BEGIN:VEVENT
DTSTART;TZID=Europe/Berlin:20260610T110000
DTEND;TZID=Europe/Berlin:20260610T133000
DTSTAMP:20260421T142106
CREATED:20250517T114231Z
LAST-MODIFIED:20260306T110354Z
UID:9503-1781089200-1781098200@www.kruezzbruer.de
SUMMARY:Redaktionsteamsitzung
DESCRIPTION:Auswertung der bis dahin gesammelten Artikel zum Aktionsheft De Krüzzbrür\, Ausgabe 15. Erste Zusammenstellung aller Beiträge und Annoncen. \nJe nach Anzahl der Annoncen ist zu überlegen\, ob Artikel herausgenommen werden sollen. Vorüberlegungen zu den Themen des nächsten Heftes sind zu vertiefen.
URL:https://www.kruezzbruer.de/event/redaktionsteamsitzung-2/
LOCATION:Bei Alfons
ATTACH;FMTTYPE=image/jpeg:https://www.kruezzbruer.de/wordpress/wp-content/uploads/2024/10/Redaktionsteam-V.jpg
END:VEVENT
BEGIN:VEVENT
DTSTART;TZID=Europe/Berlin:20260611T183000
DTEND;TZID=Europe/Berlin:20260611T220000
DTSTAMP:20260421T142106
CREATED:20250122T165526Z
LAST-MODIFIED:20260327T150844Z
UID:10236-1781202600-1781215200@www.kruezzbruer.de
SUMMARY:Krüzzbrür Kulturabend
DESCRIPTION:mit Capella a Capella und Angelo Scholly \nDer Aachener Männerchor Capella A Capella präsentiert Lieblingslieder\, die von klassischer Chormusik über bekannte Schlager bis zu Öcher-Platt-Liedern reichen. Lassen Sie sich überraschen von dem breitgefächerten Repertoire\, das von besinnlichen bis zu schwungvollen Stücken reicht. \nEinige Stücke werden auch instrumental am Klavier von Angelo Scholly begleitet. \nEintrittskarten sind erhältlich bei den Mitgliedern des Pfarrausschuss Heilig Kreuz oder per Mail über Kulturabend-Hl.Kreuz @ gmx.de
URL:https://www.kruezzbruer.de/event/kruezzbruer-kulturabend/
LOCATION:Gemeindesaal Hl. Kreuz\, Kreuzherrenstr. 3-5\, Aachen\, 52062
ATTACH;FMTTYPE=image/jpeg:https://www.kruezzbruer.de/wordpress/wp-content/uploads/2026/03/V-Kulturabend-11.06.26.jpg
END:VEVENT
END:VCALENDAR