BEGIN:VCALENDAR
VERSION:2.0
PRODID:-//De Krüzzbrür - ECPv6.15.20//NONSGML v1.0//EN
CALSCALE:GREGORIAN
METHOD:PUBLISH
X-WR-CALNAME:De Krüzzbrür
X-ORIGINAL-URL:https://www.kruezzbruer.de
X-WR-CALDESC:Veranstaltungen für De Krüzzbrür
REFRESH-INTERVAL;VALUE=DURATION:PT1H
X-Robots-Tag:noindex
X-PUBLISHED-TTL:PT1H
BEGIN:VTIMEZONE
TZID:Europe/Berlin
BEGIN:DAYLIGHT
TZOFFSETFROM:+0100
TZOFFSETTO:+0200
TZNAME:CEST
DTSTART:20250330T010000
END:DAYLIGHT
BEGIN:STANDARD
TZOFFSETFROM:+0200
TZOFFSETTO:+0100
TZNAME:CET
DTSTART:20251026T010000
END:STANDARD
BEGIN:DAYLIGHT
TZOFFSETFROM:+0100
TZOFFSETTO:+0200
TZNAME:CEST
DTSTART:20260329T010000
END:DAYLIGHT
BEGIN:STANDARD
TZOFFSETFROM:+0200
TZOFFSETTO:+0100
TZNAME:CET
DTSTART:20261025T010000
END:STANDARD
BEGIN:DAYLIGHT
TZOFFSETFROM:+0100
TZOFFSETTO:+0200
TZNAME:CEST
DTSTART:20270328T010000
END:DAYLIGHT
BEGIN:STANDARD
TZOFFSETFROM:+0200
TZOFFSETTO:+0100
TZNAME:CET
DTSTART:20271031T010000
END:STANDARD
END:VTIMEZONE
BEGIN:VEVENT
DTSTART;TZID=Europe/Berlin:20260204T190000
DTEND;TZID=Europe/Berlin:20260204T220000
DTSTAMP:20260419T140453
CREATED:20241210T124036Z
LAST-MODIFIED:20251211T115142Z
UID:10055-1770231600-1770242400@www.kruezzbruer.de
SUMMARY:PA-Versammlung
DESCRIPTION:
URL:https://www.kruezzbruer.de/event/pa-versammlung-5/
LOCATION:Bei Alfons
END:VEVENT
BEGIN:VEVENT
DTSTART;TZID=Europe/Berlin:20260208T100000
DTEND;TZID=Europe/Berlin:20260208T110000
DTSTAMP:20260419T140453
CREATED:20251209T090514Z
LAST-MODIFIED:20260205T090751Z
UID:11311-1770544800-1770548400@www.kruezzbruer.de
SUMMARY:Joddesdengs op Öcher Platt
DESCRIPTION:Am Sonntag\, 08.02.2026\, findet in Hl. Kreuz um 10.00 Uhr wieder eine Messe „op Öcher Platt“ statt.\nMit heiteren und auch ernsten Texten auf Platt werden wir muntere Lieder – teilweise in unsere Aachener Muttersprache übersetzt – singen und unsere Freude am Glauben zum Ausdruck bringen. \nHerzliche Einladung zu diesem etwas anderen Gottesdienst! \nMitfeiernde können gerne in Kostümen kommen. So bringen wir zum Ausdruck\, dass wir eine „bunte“ Kirche sind\, hoffentlich nicht nur zu Karneval. \nDer Gemeinderat Hl. Kreuz lädt im Anschluss zu Puffel und Kaffee in den Kreuzpunkt ein.
URL:https://www.kruezzbruer.de/event/joddesdengs-op-oecher-platt/
LOCATION:Hl-Kreuz-Kirche\, Pontstr. 148\, Aachen
ATTACH;FMTTYPE=image/png:https://www.kruezzbruer.de/wordpress/wp-content/uploads/2025/12/Karnevalsmesse.png
END:VEVENT
BEGIN:VEVENT
DTSTART;TZID=Europe/Berlin:20260218T183000
DTEND;TZID=Europe/Berlin:20260218T210000
DTSTAMP:20260419T140453
CREATED:20240227T180813Z
LAST-MODIFIED:20260205T091540Z
UID:8426-1771439400-1771448400@www.kruezzbruer.de
SUMMARY:Aschermittwoch - Fischessen
DESCRIPTION:Empfang des Aschenkreuzes im Gottesdienst\, der um 18:30 Uhr in Hl. Kreuz beginnt.\nAnschließend laden Gemeinderat und Pfarrausschuss Hl. Kreuz zum Fischessen ins Gemeindeheim  in der Kreuzherrenstraße ein. \nAufbau Gemeindesaal ab 17:00 Uhr
URL:https://www.kruezzbruer.de/event/aschermittwoch-fischessen/
LOCATION:Gemeindesaal Hl. Kreuz\, Kreuzherrenstr. 3-5\, Aachen\, 52062
ATTACH;FMTTYPE=image/jpeg:https://www.kruezzbruer.de/wordpress/wp-content/uploads/2024/03/V-0a1.jpg
END:VEVENT
END:VCALENDAR