BEGIN:VCALENDAR
VERSION:2.0
PRODID:-//De Krüzzbrür - ECPv6.15.20//NONSGML v1.0//EN
CALSCALE:GREGORIAN
METHOD:PUBLISH
X-WR-CALNAME:De Krüzzbrür
X-ORIGINAL-URL:https://www.kruezzbruer.de
X-WR-CALDESC:Veranstaltungen für De Krüzzbrür
REFRESH-INTERVAL;VALUE=DURATION:PT1H
X-Robots-Tag:noindex
X-PUBLISHED-TTL:PT1H
BEGIN:VTIMEZONE
TZID:Europe/Berlin
BEGIN:DAYLIGHT
TZOFFSETFROM:+0100
TZOFFSETTO:+0200
TZNAME:CEST
DTSTART:20240331T010000
END:DAYLIGHT
BEGIN:STANDARD
TZOFFSETFROM:+0200
TZOFFSETTO:+0100
TZNAME:CET
DTSTART:20241027T010000
END:STANDARD
BEGIN:DAYLIGHT
TZOFFSETFROM:+0100
TZOFFSETTO:+0200
TZNAME:CEST
DTSTART:20250330T010000
END:DAYLIGHT
BEGIN:STANDARD
TZOFFSETFROM:+0200
TZOFFSETTO:+0100
TZNAME:CET
DTSTART:20251026T010000
END:STANDARD
BEGIN:DAYLIGHT
TZOFFSETFROM:+0100
TZOFFSETTO:+0200
TZNAME:CEST
DTSTART:20260329T010000
END:DAYLIGHT
BEGIN:STANDARD
TZOFFSETFROM:+0200
TZOFFSETTO:+0100
TZNAME:CET
DTSTART:20261025T010000
END:STANDARD
END:VTIMEZONE
BEGIN:VEVENT
DTSTART;TZID=Europe/Berlin:20250914T110000
DTEND;TZID=Europe/Berlin:20250914T163000
DTSTAMP:20260419T211928
CREATED:20250206T160512Z
LAST-MODIFIED:20250912T121224Z
UID:10392-1757847600-1757867400@www.kruezzbruer.de
SUMMARY:Tag des Denkmals - Pfarrhaus Hl. Kreuz
DESCRIPTION:Das Pfarrhaus Heilig Kreuz\, dessen Ursprung auf den Bau des Kreuzherrenklosters im 14. Jhd. zurückgeht\, zeigt sich zur Pontstraße hin von seiner schönsten Seite. Die eindrucksvolle Vorderfront und großartige Architektur des Vorderbaus im damals herrschenden Barockstil geht auf die Baumeister Mefferdatis und Joh.Jos. Couven zurück. \nIm Inneren erinnern schöne barock geschnitzte Holzkamine mit gefälligem Rahmenwerk sowie spätbarocke Türen an den Urbau. Im ehemaligen Kreuzgang des Kloster-Westflügels\, der heutigen Kreuzkapelle\, befinden sich viele kunstvolle Schnitzwerke\, die aus den Kunstwerkstätten der Kreuzherren hervorgegangen sind. \nGemeinderat und Pfarrausschuss Heilig Kreuz laden Sie ein\, ein wenig in die Geschichte des ehemaligen Kreuzherrenklosters einzutauchen. Lassen Sie in Ruhe Ihre Blicke durch die Räumlichkeiten\, auf die Innenausstattung und über die ausgestellten Schmuckstücke wandern. Oder lauschen Sie dem etwa 40 minütigen Vortrag des Historikers Frank Körfer zu den Kreuzherren (11:00 Uhr) oder lassen Sie sich bei einer der beiden drei Führungen (11:00\, 12:30 und 14:00 Uhr) durch das Pfarrhaus von Geschichtlichem und Geschichten mitnehmen. \nIm Zuge dessen wird zudem eine weitere Führung in der Heilig-Kreuz-Kirche angeboten (14:45 Uhr).
URL:https://www.kruezzbruer.de/event/tag-des-denkmals-pfarrhaus-hl-kreuz/
LOCATION:Pfarrhaus Hl. Kreuz\, Pontstraße 148\, Aachen
ATTACH;FMTTYPE=image/jpeg:https://www.kruezzbruer.de/wordpress/wp-content/uploads/2025/02/V-Pfarrhaus-Hl.-Kreuz.jpg
END:VEVENT
BEGIN:VEVENT
DTSTART;TZID=Europe/Berlin:20250915T190000
DTEND;TZID=Europe/Berlin:20250915T220000
DTSTAMP:20260419T211928
CREATED:20250521T162735Z
LAST-MODIFIED:20250521T162735Z
UID:10704-1757962800-1757973600@www.kruezzbruer.de
SUMMARY:Austauschtreffen mit interessierten Ordensträgern
DESCRIPTION:Gerne wiederholen wir ein Austauschtreffen mit unseren Krüzzbrür-Ordensträgern und hoffen auf rege Teilnahme.
URL:https://www.kruezzbruer.de/event/austauschtreffen-mit-interessierten-ordenstraegern/
LOCATION:Kreuzpunkt\, Pontstr. 148\, Aachen\, 52062
END:VEVENT
END:VCALENDAR