BEGIN:VCALENDAR
VERSION:2.0
PRODID:-//De Krüzzbrür - ECPv6.15.20//NONSGML v1.0//EN
CALSCALE:GREGORIAN
METHOD:PUBLISH
X-WR-CALNAME:De Krüzzbrür
X-ORIGINAL-URL:https://www.kruezzbruer.de
X-WR-CALDESC:Veranstaltungen für De Krüzzbrür
REFRESH-INTERVAL;VALUE=DURATION:PT1H
X-Robots-Tag:noindex
X-PUBLISHED-TTL:PT1H
BEGIN:VTIMEZONE
TZID:Europe/Berlin
BEGIN:DAYLIGHT
TZOFFSETFROM:+0100
TZOFFSETTO:+0200
TZNAME:CEST
DTSTART:20240331T010000
END:DAYLIGHT
BEGIN:STANDARD
TZOFFSETFROM:+0200
TZOFFSETTO:+0100
TZNAME:CET
DTSTART:20241027T010000
END:STANDARD
BEGIN:DAYLIGHT
TZOFFSETFROM:+0100
TZOFFSETTO:+0200
TZNAME:CEST
DTSTART:20250330T010000
END:DAYLIGHT
BEGIN:STANDARD
TZOFFSETFROM:+0200
TZOFFSETTO:+0100
TZNAME:CET
DTSTART:20251026T010000
END:STANDARD
BEGIN:DAYLIGHT
TZOFFSETFROM:+0100
TZOFFSETTO:+0200
TZNAME:CEST
DTSTART:20260329T010000
END:DAYLIGHT
BEGIN:STANDARD
TZOFFSETFROM:+0200
TZOFFSETTO:+0100
TZNAME:CET
DTSTART:20261025T010000
END:STANDARD
END:VTIMEZONE
BEGIN:VEVENT
DTSTART;TZID=Europe/Berlin:20250705T100000
DTEND;TZID=Europe/Berlin:20250705T160000
DTSTAMP:20260420T002441
CREATED:20250423T155145Z
LAST-MODIFIED:20250517T131308Z
UID:10666-1751709600-1751731200@www.kruezzbruer.de
SUMMARY:75 Jahre Kindergarten/Kita Hl. Kreuz
DESCRIPTION:Anlässlich des 75-jährigen Jubiläums lädt die Kita Heilig Kreuz Eltern\, Kinder und Freunde ein\, mit zu feiern. Beginn ist um 10 Uhr in der Kirche Heilig Kreuz und anschließend wird rund um den Kindergarten und im Pfarrheim gefeiert. \nSiehe auch EINLADUNG auf der Website  von Franziska von Aachen. \nAuszug aus dem Kirchenführer Hl. Kreuz von 1977: \nSchon im Jahr 1948 war mit dem Bau eines Kindergartens auf dem Grundstück Kreuzherrenstraße 3-5 begonnen worden. Zunächst konnte nur der erste Teil des Gesamtbaus (Raum für 30 Kinder) aufgeführt werden. Aber die Arbeit an den Kindern und ihren Eltern erwies sich als so fruchtbar\, dass die Weiterführung nie in Frage stand. \nNachdem mit der Technischen Hochschule\, die das Gebäude der ehemaligen Deden’schen Fabrik erworben hatte\, ein Grundstückstausch und -erwerb zustande gekommen war\, konnte an die Ausführung des gesamten Baus herangegangen werden. Mit dem Ausbau des Kindergartens (Fertigstellung 1957 für 90 Kinder) wurde der Bau eines Jugendheimes an der Straßenfront Kreuzherrenstraße verbunden. September 1958 wurde der Gesamtbau vollendet. \n \nDie Räume des Kindergartens reichten bei weitem nicht aus. Die Warteliste der angemeldeten Kinder wurde immer länger. Um diese Not zu beheben\, beschloss der Kirchenvorstand am 26.05.1971\, einen Erweiterungsbau auf dem Grundstück Pontstraße 152 (Hinterhaus) und dem oberen Stück des Pfarrgartens aufzurichten.Vorerst musste das auf dem Grundstük Pontstraße 152 stehende (2.) Hinterhaus abgerissen werden. Der Baubeginn war Juni 1972. Im März 1973 konnte der Erweiterungsbau eröffnet werden. Er umfasste einen Gruppenraum einschließlich der erforderlichen Nebenräume\, einen Raum für die Angestellten und einen großen Gymnastikraum für alle Gruppen.\nGleichzeitig konnte der alte Kindergarten im Erdgeschoss um einen 30 qm großen Mehrzweckraum erweitert werden. Durch den Anschlussbau des Hochschulinstituts Veltmanplatz/Kreuzherrenstraße ergab sich ein Einschnitt von 30 qm. Er wurde von der TH käuflich erworben\, für die TH wertlos\, für die Erweiterungsabsichten sehr wertvoll\, denn das Pfarrheim im 1. und 2. Stock profitierte davon in gleicher Weise. \nDer Kirchplatz\, gemeint ist der Hof zwischen Kindergarten und Kirche\, war im Kriege durch große Bombentrichter total zerstört und nach dem Kriege nur provisorisch in Ordnung gebracht worden. Eine ausreichende Kanalisation musste eingebaut werden. Für die Kinder wurde ein besonderer Fußweg zu den Gruppenräumen am Kindergarten vorbei angelegt. Das übrige Stück wurde mit alten Grauwacken\, zum Teil als Fahrwerg\, zum Teil als Freiraum mit Blumenkübeln\, einer Linde und einem Rosenbeet gestaltet. Die Arbeiten\nwaren am 22. Februar 1975 fertiggestellt. \nSiehe auch Beitrag der Kita-Leiterin Andrea Kranz im Aktionsheft De Krüzzbrür Ausgabe 2/2017 Seiten 19 und 21
URL:https://www.kruezzbruer.de/event/75-jahre-kindergarten-kita-hl-kreuz/
LOCATION:Kita Hl. Kreuz\, Kreuzherrenstr. 3-5\, Aachen
ATTACH;FMTTYPE=image/jpeg:https://www.kruezzbruer.de/wordpress/wp-content/uploads/2025/04/Kita-HK.jpg
END:VEVENT
END:VCALENDAR