BEGIN:VCALENDAR
VERSION:2.0
PRODID:-//De Krüzzbrür - ECPv6.15.20//NONSGML v1.0//EN
CALSCALE:GREGORIAN
METHOD:PUBLISH
X-ORIGINAL-URL:https://www.kruezzbruer.de
X-WR-CALDESC:Veranstaltungen für De Krüzzbrür
REFRESH-INTERVAL;VALUE=DURATION:PT1H
X-Robots-Tag:noindex
X-PUBLISHED-TTL:PT1H
BEGIN:VTIMEZONE
TZID:Europe/Berlin
BEGIN:DAYLIGHT
TZOFFSETFROM:+0100
TZOFFSETTO:+0200
TZNAME:CEST
DTSTART:20230326T010000
END:DAYLIGHT
BEGIN:STANDARD
TZOFFSETFROM:+0200
TZOFFSETTO:+0100
TZNAME:CET
DTSTART:20231029T010000
END:STANDARD
BEGIN:DAYLIGHT
TZOFFSETFROM:+0100
TZOFFSETTO:+0200
TZNAME:CEST
DTSTART:20240331T010000
END:DAYLIGHT
BEGIN:STANDARD
TZOFFSETFROM:+0200
TZOFFSETTO:+0100
TZNAME:CET
DTSTART:20241027T010000
END:STANDARD
BEGIN:DAYLIGHT
TZOFFSETFROM:+0100
TZOFFSETTO:+0200
TZNAME:CEST
DTSTART:20250330T010000
END:DAYLIGHT
BEGIN:STANDARD
TZOFFSETFROM:+0200
TZOFFSETTO:+0100
TZNAME:CET
DTSTART:20251026T010000
END:STANDARD
END:VTIMEZONE
BEGIN:VEVENT
DTSTART;TZID=Europe/Berlin:20240522T170000
DTEND;TZID=Europe/Berlin:20240522T190000
DTSTAMP:20260422T203108
CREATED:20240516T081704Z
LAST-MODIFIED:20240516T082049Z
UID:9132-1716397200-1716404400@www.kruezzbruer.de
SUMMARY:Domführung
DESCRIPTION:Max Kerner wird die Krüzzbrür-Familie durch den Aachener Dom führen
URL:https://www.kruezzbruer.de/event/domfuehrung/
LOCATION:Aachener Dom
ATTACH;FMTTYPE=image/jpeg:https://www.kruezzbruer.de/wordpress/wp-content/uploads/2023/12/AC-DOM.jpg
END:VEVENT
END:VCALENDAR