BEGIN:VCALENDAR
VERSION:2.0
PRODID:-//De Krüzzbrür - ECPv6.15.20//NONSGML v1.0//EN
CALSCALE:GREGORIAN
METHOD:PUBLISH
X-WR-CALNAME:De Krüzzbrür
X-ORIGINAL-URL:https://www.kruezzbruer.de
X-WR-CALDESC:Veranstaltungen für De Krüzzbrür
REFRESH-INTERVAL;VALUE=DURATION:PT1H
X-Robots-Tag:noindex
X-PUBLISHED-TTL:PT1H
BEGIN:VTIMEZONE
TZID:Europe/Berlin
BEGIN:DAYLIGHT
TZOFFSETFROM:+0100
TZOFFSETTO:+0200
TZNAME:CEST
DTSTART:20230326T010000
END:DAYLIGHT
BEGIN:STANDARD
TZOFFSETFROM:+0200
TZOFFSETTO:+0100
TZNAME:CET
DTSTART:20231029T010000
END:STANDARD
BEGIN:DAYLIGHT
TZOFFSETFROM:+0100
TZOFFSETTO:+0200
TZNAME:CEST
DTSTART:20240331T010000
END:DAYLIGHT
BEGIN:STANDARD
TZOFFSETFROM:+0200
TZOFFSETTO:+0100
TZNAME:CET
DTSTART:20241027T010000
END:STANDARD
BEGIN:DAYLIGHT
TZOFFSETFROM:+0100
TZOFFSETTO:+0200
TZNAME:CEST
DTSTART:20250330T010000
END:DAYLIGHT
BEGIN:STANDARD
TZOFFSETFROM:+0200
TZOFFSETTO:+0100
TZNAME:CET
DTSTART:20251026T010000
END:STANDARD
END:VTIMEZONE
BEGIN:VEVENT
DTSTART;TZID=Europe/Berlin:20240415T183000
DTEND;TZID=Europe/Berlin:20240415T210000
DTSTAMP:20260422T220316
CREATED:20240302T182935Z
LAST-MODIFIED:20240302T182935Z
UID:8633-1713205800-1713214800@www.kruezzbruer.de
SUMMARY:PA-Versammlung
DESCRIPTION:
URL:https://www.kruezzbruer.de/event/pa-versammlung/
LOCATION:Kreuzpunkt\, Pontstr. 148\, Aachen\, 52062
END:VEVENT
BEGIN:VEVENT
DTSTART;TZID=Europe/Berlin:20240427T080000
DTEND;TZID=Europe/Berlin:20240427T160000
DTSTAMP:20260422T220316
CREATED:20240302T193355Z
LAST-MODIFIED:20240418T172630Z
UID:8651-1714204800-1714233600@www.kruezzbruer.de
SUMMARY:VHS-Studienfahrt - ENTFÄLLT !
DESCRIPTION:Auf den Spuren der Kreuzherren zwischen dem Aachener Land und dem Niederrhein\nBeginn 9:00 Uhr Heilig-Kreuz-Kirche\nAnmeldung über VHS Aachen bis 8.April möglich
URL:https://www.kruezzbruer.de/event/vhs-studienfahrt/
LOCATION:Hl-Kreuz-Kirche\, Pontstr. 148\, Aachen
ATTACH;FMTTYPE=image/jpeg:https://www.kruezzbruer.de/wordpress/wp-content/uploads/2024/03/V-04.jpg
END:VEVENT
END:VCALENDAR